{"text_format":"1","workbook":"xlsx","n_sheets":2,"sheets":["Quattro","Blad1"],"not_rendered":{"charts":0,"images":6,"macros":1,"external_links":0,"defined_names":2,"comments":1,"pivot_tables":0},"unopened":[],"bounds":{"document_bytes":16777216,"sheet_cells":100000,"rows_first":2000,"rows_last":500,"rows_between":2000,"halvings":0,"cell_chars":16384,"cell_head_chars":4096},"cells_cut":0,"cells_raw":0,"read":"whole","date_system":"1900"}

{"sheet":"Quattro","index":0,"n_rows":40,"n_cols":11,"rows_kept":40,"cut":false,"hidden":false,"merged":[[0,1,2,6],[39,8,39,9],[9,0,10,0],[9,4,9,7],[9,1,10,1],[9,2,9,3]]}
[null,"Beräkningsprogram QUATTRO"]
[]
[]
["Systemtemperatur:"]
["Tillopp","Retur","Dt"]
[null,null,{"$f":"A6-B6","v":0}]
["Glykolhalt, %"]
[]
[]
["Rad","Effekt Q","Flöde",null,"Rör",null,null,null,"Quattro","Tryck P","Kv"]
[null,null,"Rad","Rör","Lm ","Dim","R-värde","Tryckfall"," tryckfall"]
["nr.","W","l/h","l/h","m","mm","Pa/m","kPa","kPa","kPa","m3/h"]
[1,null,{"$f":"IFERROR(0.86*B13/$C$6,0)","v":0},{"$f":"+C13","v":0},null,null,{"$f":"IFERROR((Blad1!AV12+Blad1!AW12)/2,0)","v":0},{"$f":"G13*E13/1000","v":0},{"$f":"(((D13/(2.48*10))^2)/100)/2","v":0},null,{"$f":"IFERROR((0.1*C13)/SQRT(J13*100),0)","v":0}]
[2,null,0,{"$f":"IF(C14>0,D13+C14,0)","v":0},null,null,{"$f":"IFERROR((Blad1!AV13+Blad1!AW13)/2,0)","v":0},{"$f":"G14*E14/1000","v":0},{"$f":"((D14/(2.48*10))^2)/100/IF(D15>0,1,2)","v":0},{"$f":"IF(H14>0,SUM(H13:J13),0)","v":0},0]
[3,null,0,0,null,null,{"$f":"IFERROR((Blad1!AV14+Blad1!AW14)/2,0)","v":0},0,0,0,0]
[4,null,0,0,null,null,{"$f":"IFERROR((Blad1!AV15+Blad1!AW15)/2,0)","v":0},0,0,0,0]
[5,null,0,0,null,null,{"$f":"IFERROR((Blad1!AV16+Blad1!AW16)/2,0)","v":0},0,0,0,0]
[6,null,0,0,null,null,{"$f":"IFERROR((Blad1!AV17+Blad1!AW17)/2,0)","v":0},0,0,0,0]
[7,null,0,0,null,null,{"$f":"IFERROR((Blad1!AV18+Blad1!AW18)/2,0)","v":0},0,0,0,0]
[8,null,0,0,null,null,{"$f":"IFERROR((Blad1!AV19+Blad1!AW19)/2,0)","v":0},0,0,0,0]
[9,null,0,{"$f":"IF(C21>0,D20+C21,0)","v":0},null,null,{"$f":"IFERROR((Blad1!AV20+Blad1!AW20)/2,0)","v":0},0,0,0,0]
[10,null,0,0,null,null,{"$f":"IFERROR((Blad1!AV21+Blad1!AW21)/2,0)","v":0},0,0,0,0]
["Total effekt:",{"$f":"B13+B14+B15+B16+B17+B18+B19+B20+B21+B22","v":0},null,null,null,null,null,null,"Totalt tryckfall:",{"$f":"INDEX(H13:H21,MATCH(MAX(J13:J21),J13:J21,0))+INDEX(I13:I21,MATCH(MAX(J13:J21),J13:J21,0))+INDEX(J13:J21,MATCH(MAX(J13:J21),J13:J21,0))","v":0}]
["Ctrl-d","Rensar indata"]
[]
[null,null,"Fler smarta tillbehör från Thermopanel"]
[]
[]
[]
[]
[]
[]
[]
[]
[]
[]
[]
[]
[]
[null,"         1-Rörsfördelare",null,null,null,"RAK-4",null,null,"TP Flex"]

{"sheet":"Blad1","index":1,"n_rows":28,"n_cols":49,"rows_kept":28,"cut":false,"hidden":true,"merged":[]}
[null,null,null,null,null,null,"Cu rör, använda",{"$f":"INDEX(Blad1!I26:I28,MATCH(G1,Blad1!H26:H28,0))","v":3.0000000000000001E-6},null,null,null,null,null,null,null,null,"↓",null,null,null,null,null,null,"↓",null,null,null,null,null,null,null,null,null,null,null,null,null,null,"↓"]
[null,null,"Densitet, kg/m^3",{"$f":"(1-(Quattro!A$6/580)^1.8+Quattro!$B$7/636*(1-Quattro!A$6/235))*1000","v":1000},{"$f":"(1-(Quattro!B$6/580)^1.8+Quattro!$B$7/636*(1-Quattro!B$6/235))*1000","v":1000}]
[null,null,"Kinematisk viskositet, (m2/s) ",{"$f":"0.000309*((1-EXP(-0.111*(37+Quattro!A$6)))/(37+Quattro!A$6))^1.42*EXP(1.1*Quattro!$B$7*(256-Quattro!A$6)*0.0001)","v":1.7901051657429568E-6},{"$f":"0.000309*((1-EXP(-0.111*(37+Quattro!B$6)))/(37+Quattro!B$6))^1.42*EXP(1.1*Quattro!$B$7*(256-Quattro!B$6)*0.0001)","v":1.7901051657429568E-6}]
[]
[]
[null,null,null,null,null,null,null,null,null,null,null,null,null,null,null,null,"Laminär strömning",null,null,"Turbulent strömning"]
[null,null,null,null,null,null,null,null,null,null,null,null,null,null,null,null,null,null,null,null,null,null,null,null,null,null,null,null,null,null,null,null,null,"Re=3500",null,null,null,null,null,"Interpolation",null,null,null,null,"L val",null,null,"R, Pa/m"]
[null,null,null,null,null,null,null,null,null,null,null,null,null,null,null,null,null,null,null,"Serghides's solution, tillop",null,null,null,null,null,null,"Serghides's solution, retur",null,null,null,null,null,null,"Övergångs stömning"]
[null,null,null,null,null,null,null,"e",null,null,null,null,null,"Tillopp","Retur",null,"Tillopp","Retur",null,null,null,null,null,"Tillopp",null,null,null,null,null,null,"Retur",null,null,null,null,null,null,null,null,"Tillop","Retur",null,null,null,"Tillop","Retur",null,"Tillop","Retur "]
[null,null,null,null,null,null,null,"m",null,null,null,"d, m","v , m/s","Re",null,null,"Ll","Ll",null,"A","B","C",null,"Lt",null,null,null,null,null,null,"Lt",null,null,"A","B","C",null,"L=f(Re=3500)"]
[]
[null,null,null,null,"AluPEX 16x2,0",null,{"$f":"LEFT(Quattro!F13,1)","v":""},{"$f":"IF(G12=\"C\",Blad1!$I$27,Blad1!$I$28)","v":4.9999999999999998E-7},null,null,{"$f":"+Quattro!F13","v":0},{"$f":"(MID(Quattro!F13,8,2)-2*RIGHT(Quattro!F13,3))/1000","v":{"$error":"#VALUE!"}},{"$f":"0.354/1000000*Quattro!D13/L12^2","v":{"$error":"#VALUE!"}},{"$f":"+$M12*($L12)/(Blad1!D$3)","v":{"$error":"#VALUE!"}},{"$f":"+$M12*($L12)/(Blad1!E$3)","v":{"$error":"#VALUE!"}},null,{"$f":"64/N12","v":{"$error":"#VALUE!"}},{"$f":"64/O12","v":{"$error":"#VALUE!"}},null,{"$f":"-2*LOG((Blad1!$H12/(3.7*$L12)+(12/$N12)))","v":{"$error":"#VALUE!"}},{"$f":"-2*LOG((Blad1!$H12/(3.7*$L12)+(2.51*$T12/$N12)))","v":{"$error":"#VALUE!"}},{"$f":"-2*LOG((Blad1!$H12/(3.7*$L12)+(2.51*$U12/$N12)))","v":{"$error":"#VALUE!"}},null,{"$f":"($T12-($U12-$T12)^2/($V12-2*$U12+$T12))^-2","v":{"$error":"#VALUE!"}},null,null,{"$f":"-2*LOG((Blad1!$H12/(3.7*$L12)+(12/$O12)))","v":{"$error":"#VALUE!"}},{"$f":"-2*LOG((Blad1!$H12/(3.7*$L12)+(2.51*$AA12/$O12)))","v":{"$error":"#VALUE!"}},{"$f":"-2*LOG((Blad1!$H12/(3.7*$L12)+(2.51*$AB12/$O12)))","v":{"$error":"#VALUE!"}},null,{"$f":"($AA12-($AB12-$AA12)^2/($AC12-2*$AB12+$AA12))^-2","v":{"$error":"#VALUE!"}},null,null,{"$f":"-2*LOG((Blad1!$H12/(3.7*$L12)+(12/3500)))","v":{"$error":"#VALUE!"}},{"$f":"-2*LOG((Blad1!$H12/(3.7*$L12)+(2.51*$T12/3500)))","v":{"$error":"#VALUE!"}},{"$f":"-2*LOG((Blad1!$H12/(3.7*$L12)+(2.51*$U12/3500)))","v":{"$error":"#VALUE!"}},null,{"$f":"($AH12+($AI12-$AH12)^2/($AJ12-2*$AI12+$AH12))^-2","v":{"$error":"#VALUE!"}},null,{"$f":"64/2300+($AL12-64/2300)/(3500-2300)*(N12-2300)","v":{"$error":"#VALUE!"}},{"$f":"64/2300+($AL12-64/2300)/(3500-2300)*(O12-2300)","v":{"$error":"#VALUE!"}},null,null,null,{"$f":"IF(O12>2300,IF(O12>3500,X12,AN12),Q12)","v":{"$error":"#VALUE!"}},{"$f":"IF(O12>2300,IF(O12>3500,X12,AO12),R12)","v":{"$error":"#VALUE!"}},null,{"$f":"AS12*Blad1!D$2*$M12^2/(2*$L12)","v":{"$error":"#VALUE!"}},{"$f":"AT12*Blad1!E$2*$M12^2/(2*$L12)","v":{"$error":"#VALUE!"}}]
[null,null,null,null,"AluPEX 20x2,0",null,{"$f":"LEFT(Quattro!F14,1)","v":""},{"$f":"IF(G13=\"C\",Blad1!$I$27,Blad1!$I$28)","v":4.9999999999999998E-7},null,null,{"$f":"+Quattro!F14","v":0},{"$f":"(MID(Quattro!F14,8,2)-2*RIGHT(Quattro!F14,3))/1000","v":{"$error":"#VALUE!"}},{"$f":"0.354/1000000*Quattro!D14/L13^2","v":{"$error":"#VALUE!"}},{"$f":"+$M13*($L13)/(Blad1!D$3)","v":{"$error":"#VALUE!"}},{"$f":"+$M13*($L13)/(Blad1!E$3)","v":{"$error":"#VALUE!"}},null,{"$error":"#VALUE!"},{"$error":"#VALUE!"},null,{"$f":"-2*LOG((Blad1!$H13/(3.7*$L13)+(12/$N13)))","v":{"$error":"#VALUE!"}},{"$f":"-2*LOG((Blad1!$H13/(3.7*$L13)+(2.51*$T13/$N13)))","v":{"$error":"#VALUE!"}},{"$f":"-2*LOG((Blad1!$H13/(3.7*$L13)+(2.51*$U13/$N13)))","v":{"$error":"#VALUE!"}},null,{"$error":"#VALUE!"},null,null,{"$f":"-2*LOG((Blad1!$H13/(3.7*$L13)+(12/$O13)))","v":{"$error":"#VALUE!"}},{"$f":"-2*LOG((Blad1!$H13/(3.7*$L13)+(2.51*$AA13/$O13)))","v":{"$error":"#VALUE!"}},{"$f":"-2*LOG((Blad1!$H13/(3.7*$L13)+(2.51*$AB13/$O13)))","v":{"$error":"#VALUE!"}},null,{"$error":"#VALUE!"},null,null,{"$f":"-2*LOG((Blad1!$H13/(3.7*$L13)+(12/3500)))","v":{"$error":"#VALUE!"}},{"$f":"-2*LOG((Blad1!$H13/(3.7*$L13)+(2.51*$T13/3500)))","v":{"$error":"#VALUE!"}},{"$f":"-2*LOG((Blad1!$H13/(3.7*$L13)+(2.51*$U13/3500)))","v":{"$error":"#VALUE!"}},null,{"$f":"($AH13-($AI13-$AH13)^2/($AJ13-2*$AI13+$AH13))^-2","v":{"$error":"#VALUE!"}},null,{"$error":"#VALUE!"},{"$error":"#VALUE!"},null,null,null,{"$error":"#VALUE!"},{"$error":"#VALUE!"},null,{"$f":"AS13*Blad1!D$2*$M13^2/(2*$L13)","v":{"$error":"#VALUE!"}},{"$f":"AT13*Blad1!E$2*$M13^2/(2*$L13)","v":{"$error":"#VALUE!"}}]
[null,null,null,null,"AluPEX 20x2,5",null,{"$f":"LEFT(Quattro!F15,1)","v":""},{"$f":"IF(G14=\"C\",Blad1!$I$27,Blad1!$I$28)","v":4.9999999999999998E-7},null,null,{"$f":"+Quattro!F15","v":0},{"$f":"(MID(Quattro!F15,8,2)-2*RIGHT(Quattro!F15,3))/1000","v":{"$error":"#VALUE!"}},{"$f":"0.354/1000000*Quattro!D15/L14^2","v":{"$error":"#VALUE!"}},{"$f":"+$M14*($L14)/(Blad1!D$3)","v":{"$error":"#VALUE!"}},{"$f":"+$M14*($L14)/(Blad1!E$3)","v":{"$error":"#VALUE!"}},null,{"$error":"#VALUE!"},{"$error":"#VALUE!"},null,{"$f":"-2*LOG((Blad1!$H14/(3.7*$L14)+(12/$N14)))","v":{"$error":"#VALUE!"}},{"$f":"-2*LOG((Blad1!$H14/(3.7*$L14)+(2.51*$T14/$N14)))","v":{"$error":"#VALUE!"}},{"$f":"-2*LOG((Blad1!$H14/(3.7*$L14)+(2.51*$U14/$N14)))","v":{"$error":"#VALUE!"}},null,{"$error":"#VALUE!"},null,null,{"$f":"-2*LOG((Blad1!$H14/(3.7*$L14)+(12/$O14)))","v":{"$error":"#VALUE!"}},{"$f":"-2*LOG((Blad1!$H14/(3.7*$L14)+(2.51*$AA14/$O14)))","v":{"$error":"#VALUE!"}},{"$f":"-2*LOG((Blad1!$H14/(3.7*$L14)+(2.51*$AB14/$O14)))","v":{"$error":"#VALUE!"}},null,{"$error":"#VALUE!"},null,null,{"$f":"-2*LOG((Blad1!$H14/(3.7*$L14)+(12/3500)))","v":{"$error":"#VALUE!"}},{"$f":"-2*LOG((Blad1!$H14/(3.7*$L14)+(2.51*$T14/3500)))","v":{"$error":"#VALUE!"}},{"$f":"-2*LOG((Blad1!$H14/(3.7*$L14)+(2.51*$U14/3500)))","v":{"$error":"#VALUE!"}},null,{"$error":"#VALUE!"},null,{"$error":"#VALUE!"},{"$error":"#VALUE!"},null,null,null,{"$error":"#VALUE!"},{"$error":"#VALUE!"},null,{"$f":"AS14*Blad1!D$2*$M14^2/(2*$L14)","v":{"$error":"#VALUE!"}},{"$f":"AT14*Blad1!E$2*$M14^2/(2*$L14)","v":{"$error":"#VALUE!"}}]
[null,null,null,null,"   PEX 12x2,0",null,{"$f":"LEFT(Quattro!F16,1)","v":""},{"$f":"IF(G15=\"C\",Blad1!$I$27,Blad1!$I$28)","v":4.9999999999999998E-7},null,null,{"$f":"+Quattro!F16","v":0},{"$f":"(MID(Quattro!F16,8,2)-2*RIGHT(Quattro!F16,3))/1000","v":{"$error":"#VALUE!"}},{"$f":"0.354/1000000*Quattro!D16/L15^2","v":{"$error":"#VALUE!"}},{"$f":"+$M15*($L15)/(Blad1!D$3)","v":{"$error":"#VALUE!"}},{"$f":"+$M15*($L15)/(Blad1!E$3)","v":{"$error":"#VALUE!"}},null,{"$error":"#VALUE!"},{"$error":"#VALUE!"},null,{"$f":"-2*LOG((Blad1!$H15/(3.7*$L15)+(12/$N15)))","v":{"$error":"#VALUE!"}},{"$f":"-2*LOG((Blad1!$H15/(3.7*$L15)+(2.51*$T15/$N15)))","v":{"$error":"#VALUE!"}},{"$f":"-2*LOG((Blad1!$H15/(3.7*$L15)+(2.51*$U15/$N15)))","v":{"$error":"#VALUE!"}},null,{"$error":"#VALUE!"},null,null,{"$f":"-2*LOG((Blad1!$H15/(3.7*$L15)+(12/$O15)))","v":{"$error":"#VALUE!"}},{"$f":"-2*LOG((Blad1!$H15/(3.7*$L15)+(2.51*$AA15/$O15)))","v":{"$error":"#VALUE!"}},{"$f":"-2*LOG((Blad1!$H15/(3.7*$L15)+(2.51*$AB15/$O15)))","v":{"$error":"#VALUE!"}},null,{"$error":"#VALUE!"},null,null,{"$f":"-2*LOG((Blad1!$H15/(3.7*$L15)+(12/3500)))","v":{"$error":"#VALUE!"}},{"$f":"-2*LOG((Blad1!$H15/(3.7*$L15)+(2.51*$T15/3500)))","v":{"$error":"#VALUE!"}},{"$f":"-2*LOG((Blad1!$H15/(3.7*$L15)+(2.51*$U15/3500)))","v":{"$error":"#VALUE!"}},null,{"$error":"#VALUE!"},null,{"$error":"#VALUE!"},{"$error":"#VALUE!"},null,null,null,{"$error":"#VALUE!"},{"$error":"#VALUE!"},null,{"$f":"AS15*Blad1!D$2*$M15^2/(2*$L15)","v":{"$error":"#VALUE!"}},{"$f":"AT15*Blad1!E$2*$M15^2/(2*$L15)","v":{"$error":"#VALUE!"}}]
[null,null,null,null,"   PEX 15x2,5",null,{"$f":"LEFT(Quattro!F17,1)","v":""},{"$f":"IF(G16=\"C\",Blad1!$I$27,Blad1!$I$28)","v":4.9999999999999998E-7},null,null,{"$f":"+Quattro!F17","v":0},{"$f":"(MID(Quattro!F17,8,2)-2*RIGHT(Quattro!F17,3))/1000","v":{"$error":"#VALUE!"}},{"$f":"0.354/1000000*Quattro!D17/L16^2","v":{"$error":"#VALUE!"}},{"$f":"+$M16*($L16)/(Blad1!D$3)","v":{"$error":"#VALUE!"}},{"$f":"+$M16*($L16)/(Blad1!E$3)","v":{"$error":"#VALUE!"}},null,{"$error":"#VALUE!"},{"$error":"#VALUE!"},null,{"$f":"-2*LOG((Blad1!$H16/(3.7*$L16)+(12/$N16)))","v":{"$error":"#VALUE!"}},{"$f":"-2*LOG((Blad1!$H16/(3.7*$L16)+(2.51*$T16/$N16)))","v":{"$error":"#VALUE!"}},{"$f":"-2*LOG((Blad1!$H16/(3.7*$L16)+(2.51*$U16/$N16)))","v":{"$error":"#VALUE!"}},null,{"$error":"#VALUE!"},null,null,{"$f":"-2*LOG((Blad1!$H16/(3.7*$L16)+(12/$O16)))","v":{"$error":"#VALUE!"}},{"$f":"-2*LOG((Blad1!$H16/(3.7*$L16)+(2.51*$AA16/$O16)))","v":{"$error":"#VALUE!"}},{"$f":"-2*LOG((Blad1!$H16/(3.7*$L16)+(2.51*$AB16/$O16)))","v":{"$error":"#VALUE!"}},null,{"$error":"#VALUE!"},null,null,{"$f":"-2*LOG((Blad1!$H16/(3.7*$L16)+(12/3500)))","v":{"$error":"#VALUE!"}},{"$f":"-2*LOG((Blad1!$H16/(3.7*$L16)+(2.51*$T16/3500)))","v":{"$error":"#VALUE!"}},{"$f":"-2*LOG((Blad1!$H16/(3.7*$L16)+(2.51*$U16/3500)))","v":{"$error":"#VALUE!"}},null,{"$error":"#VALUE!"},null,{"$error":"#VALUE!"},{"$error":"#VALUE!"},null,null,null,{"$error":"#VALUE!"},{"$error":"#VALUE!"},null,{"$f":"AS16*Blad1!D$2*$M16^2/(2*$L16)","v":{"$error":"#VALUE!"}},{"$f":"AT16*Blad1!E$2*$M16^2/(2*$L16)","v":{"$error":"#VALUE!"}}]
[null,null,null,null,"   PEX 16x2,0",null,{"$f":"LEFT(Quattro!F18,1)","v":""},{"$f":"IF(G17=\"C\",Blad1!$I$27,Blad1!$I$28)","v":4.9999999999999998E-7},null,null,{"$f":"+Quattro!F18","v":0},{"$f":"(MID(Quattro!F18,8,2)-2*RIGHT(Quattro!F18,3))/1000","v":{"$error":"#VALUE!"}},{"$f":"0.354/1000000*Quattro!D18/L17^2","v":{"$error":"#VALUE!"}},{"$f":"+$M17*($L17)/(Blad1!D$3)","v":{"$error":"#VALUE!"}},{"$f":"+$M17*($L17)/(Blad1!E$3)","v":{"$error":"#VALUE!"}},null,{"$error":"#VALUE!"},{"$error":"#VALUE!"},null,{"$f":"-2*LOG((Blad1!$H17/(3.7*$L17)+(12/$N17)))","v":{"$error":"#VALUE!"}},{"$f":"-2*LOG((Blad1!$H17/(3.7*$L17)+(2.51*$T17/$N17)))","v":{"$error":"#VALUE!"}},{"$f":"-2*LOG((Blad1!$H17/(3.7*$L17)+(2.51*$U17/$N17)))","v":{"$error":"#VALUE!"}},null,{"$error":"#VALUE!"},null,null,{"$f":"-2*LOG((Blad1!$H17/(3.7*$L17)+(12/$O17)))","v":{"$error":"#VALUE!"}},{"$f":"-2*LOG((Blad1!$H17/(3.7*$L17)+(2.51*$AA17/$O17)))","v":{"$error":"#VALUE!"}},{"$f":"-2*LOG((Blad1!$H17/(3.7*$L17)+(2.51*$AB17/$O17)))","v":{"$error":"#VALUE!"}},null,{"$error":"#VALUE!"},null,null,{"$f":"-2*LOG((Blad1!$H17/(3.7*$L17)+(12/3500)))","v":{"$error":"#VALUE!"}},{"$f":"-2*LOG((Blad1!$H17/(3.7*$L17)+(2.51*$T17/3500)))","v":{"$error":"#VALUE!"}},{"$f":"-2*LOG((Blad1!$H17/(3.7*$L17)+(2.51*$U17/3500)))","v":{"$error":"#VALUE!"}},null,{"$error":"#VALUE!"},null,{"$error":"#VALUE!"},{"$error":"#VALUE!"},null,null,null,{"$error":"#VALUE!"},{"$error":"#VALUE!"},null,{"$f":"AS17*Blad1!D$2*$M17^2/(2*$L17)","v":{"$error":"#VALUE!"}},{"$f":"AT17*Blad1!E$2*$M17^2/(2*$L17)","v":{"$error":"#VALUE!"}}]
[null,null,null,null,"   PEX 16x2,2",null,{"$f":"LEFT(Quattro!F19,1)","v":""},{"$f":"IF(G18=\"C\",Blad1!$I$27,Blad1!$I$28)","v":4.9999999999999998E-7},null,null,{"$f":"+Quattro!F19","v":0},{"$f":"(MID(Quattro!F19,8,2)-2*RIGHT(Quattro!F19,3))/1000","v":{"$error":"#VALUE!"}},{"$f":"0.354/1000000*Quattro!D19/L18^2","v":{"$error":"#VALUE!"}},{"$f":"+$M18*($L18)/(Blad1!D$3)","v":{"$error":"#VALUE!"}},{"$f":"+$M18*($L18)/(Blad1!E$3)","v":{"$error":"#VALUE!"}},null,{"$error":"#VALUE!"},{"$error":"#VALUE!"},null,{"$f":"-2*LOG((Blad1!$H18/(3.7*$L18)+(12/$N18)))","v":{"$error":"#VALUE!"}},{"$f":"-2*LOG((Blad1!$H18/(3.7*$L18)+(2.51*$T18/$N18)))","v":{"$error":"#VALUE!"}},{"$f":"-2*LOG((Blad1!$H18/(3.7*$L18)+(2.51*$U18/$N18)))","v":{"$error":"#VALUE!"}},null,{"$error":"#VALUE!"},null,null,{"$f":"-2*LOG((Blad1!$H18/(3.7*$L18)+(12/$O18)))","v":{"$error":"#VALUE!"}},{"$f":"-2*LOG((Blad1!$H18/(3.7*$L18)+(2.51*$AA18/$O18)))","v":{"$error":"#VALUE!"}},{"$f":"-2*LOG((Blad1!$H18/(3.7*$L18)+(2.51*$AB18/$O18)))","v":{"$error":"#VALUE!"}},null,{"$error":"#VALUE!"},null,null,{"$f":"-2*LOG((Blad1!$H18/(3.7*$L18)+(12/3500)))","v":{"$error":"#VALUE!"}},{"$f":"-2*LOG((Blad1!$H18/(3.7*$L18)+(2.51*$T18/3500)))","v":{"$error":"#VALUE!"}},{"$f":"-2*LOG((Blad1!$H18/(3.7*$L18)+(2.51*$U18/3500)))","v":{"$error":"#VALUE!"}},null,{"$error":"#VALUE!"},null,{"$error":"#VALUE!"},{"$error":"#VALUE!"},null,null,null,{"$error":"#VALUE!"},{"$error":"#VALUE!"},null,{"$f":"AS18*Blad1!D$2*$M18^2/(2*$L18)","v":{"$error":"#VALUE!"}},{"$f":"AT18*Blad1!E$2*$M18^2/(2*$L18)","v":{"$error":"#VALUE!"}}]
[null,null,null,null,"   PEX 20x2,0",null,{"$f":"LEFT(Quattro!F20,1)","v":""},{"$f":"IF(G19=\"C\",Blad1!$I$27,Blad1!$I$28)","v":4.9999999999999998E-7},null,null,{"$f":"+Quattro!F20","v":0},{"$f":"(MID(Quattro!F20,8,2)-2*RIGHT(Quattro!F20,3))/1000","v":{"$error":"#VALUE!"}},{"$f":"0.354/1000000*Quattro!D20/L19^2","v":{"$error":"#VALUE!"}},{"$f":"+$M19*($L19)/(Blad1!D$3)","v":{"$error":"#VALUE!"}},{"$f":"+$M19*($L19)/(Blad1!E$3)","v":{"$error":"#VALUE!"}},null,{"$error":"#VALUE!"},{"$error":"#VALUE!"},null,{"$f":"-2*LOG((Blad1!$H19/(3.7*$L19)+(12/$N19)))","v":{"$error":"#VALUE!"}},{"$f":"-2*LOG((Blad1!$H19/(3.7*$L19)+(2.51*$T19/$N19)))","v":{"$error":"#VALUE!"}},{"$f":"-2*LOG((Blad1!$H19/(3.7*$L19)+(2.51*$U19/$N19)))","v":{"$error":"#VALUE!"}},null,{"$error":"#VALUE!"},null,null,{"$f":"-2*LOG((Blad1!$H19/(3.7*$L19)+(12/$O19)))","v":{"$error":"#VALUE!"}},{"$f":"-2*LOG((Blad1!$H19/(3.7*$L19)+(2.51*$AA19/$O19)))","v":{"$error":"#VALUE!"}},{"$f":"-2*LOG((Blad1!$H19/(3.7*$L19)+(2.51*$AB19/$O19)))","v":{"$error":"#VALUE!"}},null,{"$error":"#VALUE!"},null,null,{"$f":"-2*LOG((Blad1!$H19/(3.7*$L19)+(12/3500)))","v":{"$error":"#VALUE!"}},{"$f":"-2*LOG((Blad1!$H19/(3.7*$L19)+(2.51*$T19/3500)))","v":{"$error":"#VALUE!"}},{"$f":"-2*LOG((Blad1!$H19/(3.7*$L19)+(2.51*$U19/3500)))","v":{"$error":"#VALUE!"}},null,{"$error":"#VALUE!"},null,{"$error":"#VALUE!"},{"$error":"#VALUE!"},null,null,null,{"$error":"#VALUE!"},{"$error":"#VALUE!"},null,{"$f":"AS19*Blad1!D$2*$M19^2/(2*$L19)","v":{"$error":"#VALUE!"}},{"$f":"AT19*Blad1!E$2*$M19^2/(2*$L19)","v":{"$error":"#VALUE!"}}]
[null,null,null,null,"   PEX 18x2,5",null,{"$f":"LEFT(Quattro!F21,1)","v":""},{"$f":"IF(G20=\"C\",Blad1!$I$27,Blad1!$I$28)","v":4.9999999999999998E-7},null,null,{"$f":"+Quattro!F21","v":0},{"$f":"(MID(Quattro!F21,8,2)-2*RIGHT(Quattro!F21,3))/1000","v":{"$error":"#VALUE!"}},{"$f":"0.354/1000000*Quattro!D21/L20^2","v":{"$error":"#VALUE!"}},{"$f":"+$M20*($L20)/(Blad1!D$3)","v":{"$error":"#VALUE!"}},{"$f":"+$M20*($L20)/(Blad1!E$3)","v":{"$error":"#VALUE!"}},null,{"$error":"#VALUE!"},{"$error":"#VALUE!"},null,{"$f":"-2*LOG((Blad1!$H20/(3.7*$L20)+(12/$N20)))","v":{"$error":"#VALUE!"}},{"$f":"-2*LOG((Blad1!$H20/(3.7*$L20)+(2.51*$T20/$N20)))","v":{"$error":"#VALUE!"}},{"$f":"-2*LOG((Blad1!$H20/(3.7*$L20)+(2.51*$U20/$N20)))","v":{"$error":"#VALUE!"}},null,{"$error":"#VALUE!"},null,null,{"$f":"-2*LOG((Blad1!$H20/(3.7*$L20)+(12/$O20)))","v":{"$error":"#VALUE!"}},{"$f":"-2*LOG((Blad1!$H20/(3.7*$L20)+(2.51*$AA20/$O20)))","v":{"$error":"#VALUE!"}},{"$f":"-2*LOG((Blad1!$H20/(3.7*$L20)+(2.51*$AB20/$O20)))","v":{"$error":"#VALUE!"}},null,{"$error":"#VALUE!"},null,null,{"$f":"-2*LOG((Blad1!$H20/(3.7*$L20)+(12/3500)))","v":{"$error":"#VALUE!"}},{"$f":"-2*LOG((Blad1!$H20/(3.7*$L20)+(2.51*$T20/3500)))","v":{"$error":"#VALUE!"}},{"$f":"-2*LOG((Blad1!$H20/(3.7*$L20)+(2.51*$U20/3500)))","v":{"$error":"#VALUE!"}},null,{"$error":"#VALUE!"},null,{"$error":"#VALUE!"},{"$error":"#VALUE!"},null,null,null,{"$error":"#VALUE!"},{"$error":"#VALUE!"},null,{"$f":"AS20*Blad1!D$2*$M20^2/(2*$L20)","v":{"$error":"#VALUE!"}},{"$f":"AT20*Blad1!E$2*$M20^2/(2*$L20)","v":{"$error":"#VALUE!"}}]
[null,null,null,null,"   PEX 20x2,5",null,{"$f":"LEFT(Quattro!F22,1)","v":""},{"$f":"IF(G21=\"C\",Blad1!$I$27,Blad1!$I$28)","v":4.9999999999999998E-7},null,null,{"$f":"+Quattro!F22","v":0},{"$f":"(MID(Quattro!F22,8,2)-2*RIGHT(Quattro!F22,3))/1000","v":{"$error":"#VALUE!"}},{"$f":"0.354/1000000*Quattro!D22/L21^2","v":{"$error":"#VALUE!"}},{"$f":"+$M21*($L21)/(Blad1!D$3)","v":{"$error":"#VALUE!"}},{"$f":"+$M21*($L21)/(Blad1!E$3)","v":{"$error":"#VALUE!"}},null,{"$error":"#VALUE!"},{"$error":"#VALUE!"},null,{"$f":"-2*LOG((Blad1!$H21/(3.7*$L21)+(12/$N21)))","v":{"$error":"#VALUE!"}},{"$f":"-2*LOG((Blad1!$H21/(3.7*$L21)+(2.51*$T21/$N21)))","v":{"$error":"#VALUE!"}},{"$f":"-2*LOG((Blad1!$H21/(3.7*$L21)+(2.51*$U21/$N21)))","v":{"$error":"#VALUE!"}},null,{"$error":"#VALUE!"},null,null,{"$f":"-2*LOG((Blad1!$H21/(3.7*$L21)+(12/$O21)))","v":{"$error":"#VALUE!"}},{"$f":"-2*LOG((Blad1!$H21/(3.7*$L21)+(2.51*$AA21/$O21)))","v":{"$error":"#VALUE!"}},{"$f":"-2*LOG((Blad1!$H21/(3.7*$L21)+(2.51*$AB21/$O21)))","v":{"$error":"#VALUE!"}},null,{"$error":"#VALUE!"},null,null,{"$f":"-2*LOG((Blad1!$H21/(3.7*$L21)+(12/3500)))","v":{"$error":"#VALUE!"}},{"$f":"-2*LOG((Blad1!$H21/(3.7*$L21)+(2.51*$T21/3500)))","v":{"$error":"#VALUE!"}},{"$f":"-2*LOG((Blad1!$H21/(3.7*$L21)+(2.51*$U21/3500)))","v":{"$error":"#VALUE!"}},null,{"$error":"#VALUE!"},null,{"$error":"#VALUE!"},{"$error":"#VALUE!"},null,null,null,{"$error":"#VALUE!"},{"$error":"#VALUE!"},null,{"$f":"AS21*Blad1!D$2*$M21^2/(2*$L21)","v":{"$error":"#VALUE!"}},{"$f":"AT21*Blad1!E$2*$M21^2/(2*$L21)","v":{"$error":"#VALUE!"}}]
[null,null,null,null,"   PEX 20x2,8"]
[null,null,null,null,"   PEX 22x3,0"]
[null,null,null,null,"   PEX 25x2,3"]
[null,null,null,null,"    Cu 12x1,0",null,null,null,"m"]
[null,null,null,null,"    Cu 15x1,0",null,null,"Cu rör, nya",1.5E-6]
[null,null,null,null,"    Cu 18x1,0",null,null,"Cu rör, använda",3.0000000000000001E-6]
[null,null,null,null,"    Cu 22x1,0",null,null,"PEX rör",4.9999999999999998E-7]